BEGIN:VCALENDAR
VERSION:2.0
PRODID:-//Wisconsin Asphalt Pavement Association - ECPv6.15.17.1//NONSGML v1.0//EN
CALSCALE:GREGORIAN
METHOD:PUBLISH
X-WR-CALNAME:Wisconsin Asphalt Pavement Association
X-ORIGINAL-URL:https://www.wispave.org
X-WR-CALDESC:Events for Wisconsin Asphalt Pavement Association
REFRESH-INTERVAL;VALUE=DURATION:PT1H
X-Robots-Tag:noindex
X-PUBLISHED-TTL:PT1H
BEGIN:VTIMEZONE
TZID:UTC
BEGIN:STANDARD
TZOFFSETFROM:+0000
TZOFFSETTO:+0000
TZNAME:UTC
DTSTART:20140101T000000
END:STANDARD
END:VTIMEZONE
BEGIN:VEVENT
DTSTART;VALUE=DATE:20150111
DTEND;VALUE=DATE:20150116
DTSTAMP:20260419T125412
CREATED:20141211T223317Z
LAST-MODIFIED:20141211T223317Z
UID:1225-1420934400-1421366399@www.wispave.org
SUMMARY:Transportation Research Board (TRB) 94th Annual Meeting
DESCRIPTION:
URL:https://www.wispave.org/event/transportation-research-board-trb-94th-annual-meeting/
CATEGORIES:Events
END:VEVENT
BEGIN:VEVENT
DTSTART;VALUE=DATE:20150125
DTEND;VALUE=DATE:20150129
DTSTAMP:20260419T125412
CREATED:20140818T154902Z
LAST-MODIFIED:20140818T154902Z
UID:531-1422144000-1422489599@www.wispave.org
SUMMARY:National Asphalt Pavement Association (NAPA) 2015 Annual Meeting
DESCRIPTION:
URL:https://www.wispave.org/event/national-asphalt-pavement-association-napa-2015-annual-meeting/
CATEGORIES:Events
END:VEVENT
BEGIN:VEVENT
DTSTART;VALUE=DATE:20150129
DTEND;VALUE=DATE:20150131
DTSTAMP:20260419T125412
CREATED:20140917T213954Z
LAST-MODIFIED:20140917T213954Z
UID:1014-1422489600-1422662399@www.wispave.org
SUMMARY:Wisconsin Transportation Builders Association (WTBA) 2015 Contractor-Engineer Conference
DESCRIPTION:
URL:https://www.wispave.org/event/wisconsin-transportation-builders-association-wtba-2015-contractor-engineer-conference/
CATEGORIES:Events
END:VEVENT
END:VCALENDAR