BEGIN:VCALENDAR
VERSION:2.0
PRODID:-//Wisconsin Asphalt Pavement Association - ECPv6.15.17.1//NONSGML v1.0//EN
CALSCALE:GREGORIAN
METHOD:PUBLISH
X-ORIGINAL-URL:https://www.wispave.org
X-WR-CALDESC:Events for Wisconsin Asphalt Pavement Association
REFRESH-INTERVAL;VALUE=DURATION:PT1H
X-Robots-Tag:noindex
X-PUBLISHED-TTL:PT1H
BEGIN:VTIMEZONE
TZID:UTC
BEGIN:STANDARD
TZOFFSETFROM:+0000
TZOFFSETTO:+0000
TZNAME:UTC
DTSTART:20130101T000000
END:STANDARD
END:VTIMEZONE
BEGIN:VEVENT
DTSTART;VALUE=DATE:20140821
DTEND;VALUE=DATE:20140823
DTSTAMP:20260419T204702
CREATED:20140531T202248Z
LAST-MODIFIED:20140602T185547Z
UID:107-1408579200-1408751999@www.wispave.org
SUMMARY:2014 Mid-Continent Transportation Research Symposium
DESCRIPTION:
URL:https://www.wispave.org/event/2014-mid-continent-transportation-research-symposium/
CATEGORIES:Events
END:VEVENT
END:VCALENDAR