BEGIN:VCALENDAR
VERSION:2.0
PRODID:-//Wisconsin Asphalt Pavement Association - ECPv6.15.17.1//NONSGML v1.0//EN
CALSCALE:GREGORIAN
METHOD:PUBLISH
X-WR-CALNAME:Wisconsin Asphalt Pavement Association
X-ORIGINAL-URL:https://www.wispave.org
X-WR-CALDESC:Events for Wisconsin Asphalt Pavement Association
REFRESH-INTERVAL;VALUE=DURATION:PT1H
X-Robots-Tag:noindex
X-PUBLISHED-TTL:PT1H
BEGIN:VTIMEZONE
TZID:UTC
BEGIN:STANDARD
TZOFFSETFROM:+0000
TZOFFSETTO:+0000
TZNAME:UTC
DTSTART:20250101T000000
END:STANDARD
END:VTIMEZONE
BEGIN:VEVENT
DTSTART;VALUE=DATE:20260421
DTEND;VALUE=DATE:20260422
DTSTAMP:20260421T100019
CREATED:20260319T160913Z
LAST-MODIFIED:20260319T160913Z
UID:8589-1776729600-1776815999@www.wispave.org
SUMMARY:American Society of Civil Engineers (ASCE) WI 2026 Spring Technical Conference
DESCRIPTION:
URL:https://www.wispave.org/event/american-society-of-civil-engineers-asce-wi-2026-spring-technical-conference/
CATEGORIES:Events
END:VEVENT
END:VCALENDAR